BEGIN:VCALENDAR
VERSION:2.0
PRODID:icalendar-ruby
CALSCALE:GREGORIAN
METHOD:PUBLISH
BEGIN:VEVENT
DTSTAMP:20260424T155018Z
UID:46-1695917@livingwaterchurchoffenton.com
DTSTART:20260921T233000Z
DTEND:20260922T003000Z
CLASS:PUBLIC
CREATED:20260424T100619
DESCRIPTION:Join us as we pray for our community and the needs of God's peo
 ple\n1 Thessalonians 5:16-18 (KJV)\n"Rejoice evermore. Pray without ceasin
 g. In every thing give thanks: for this is the will of God in Christ Jesus
  concerning you."
LAST-MODIFIED:20260424T100619
LOCATION:14304 N. Fenton Rd\, Fenton MI 48430
SUMMARY:Church Wide Prayer
URL;VALUE=URI:https://www.livingwaterchurchoffenton.com/events/church-wide-
 prayer--46/2026-09-21
ATTACH;FILENAME=Prayer.jfif;FMTTYPE=image/jpeg:https://dq5pwpg1q8ru0.cloudf
 ront.net/2026/01/04/15/34/54/b400437d-2341-4c25-93f8-6308d5f82e6e/Prayer.j
 fif
END:VEVENT
END:VCALENDAR
