BEGIN:VCALENDAR
VERSION:2.0
PRODID:icalendar-ruby
CALSCALE:GREGORIAN
METHOD:PUBLISH
BEGIN:VEVENT
DTSTAMP:20260424T101402Z
UID:40-1693736@livingwaterchurchoffenton.com
DTSTART:20261030T150000Z
DTEND:20261030T160000Z
CLASS:PUBLIC
CREATED:20260423T214402
DESCRIPTION:
LAST-MODIFIED:20260423T214402
LOCATION:14304 N. Fenton Rd Fenton MI 48430
SUMMARY:Ladies Prayer
URL;VALUE=URI:https://www.livingwaterchurchoffenton.com/events/ladies-praye
 r/2026-10-30
ATTACH;FILENAME=Prayer Ladies.jpg;FMTTYPE=image/jpeg:https://dq5pwpg1q8ru0.
 cloudfront.net/2024/10/18/00/25/47/fdda0a73-7a21-4fe2-8f07-a5187a475197/Pr
 ayer%20Ladies.jpg
END:VEVENT
END:VCALENDAR
