BEGIN:VCALENDAR
VERSION:2.0
PRODID:icalendar-ruby
CALSCALE:GREGORIAN
METHOD:PUBLISH
BEGIN:VEVENT
DTSTAMP:20260425T162044Z
UID:24-1700896@livingwaterchurchoffenton.com
DTSTART:20260929T233000Z
DTEND:20260930T003000Z
CLASS:PUBLIC
CREATED:20260425T094738
DESCRIPTION:Iron Sharpens Iron\nA time of edification and strengthening to 
 be the man God has called us to be.\nJoin Zoom Meeting\n\nNEW LINK STARTIN
 G JUNE 6th 2023\nhttps://us06web.zoom.us/j/85721962602?pwd=ZmRCMi91bjJDeEJ
 zTmN5YWI4UlBwQT09\nMeeting ID: 857 2196 2602\nPasscode: OneGod
LAST-MODIFIED:20260425T094738
LOCATION:Zoom
SUMMARY:Men of Valor
URL;VALUE=URI:https://www.livingwaterchurchoffenton.com/events/men-of-valor
 /2026-09-29
ATTACH;FILENAME=MOV-3.png;FMTTYPE=image/png:https://dq5pwpg1q8ru0.cloudfron
 t.net/2022/12/31/18/53/19/e4664abb-c685-48af-abd0-0d8269afcf3f/MOV-3.png
END:VEVENT
END:VCALENDAR
