BEGIN:VCALENDAR
VERSION:2.0
PRODID:icalendar-ruby
CALSCALE:GREGORIAN
METHOD:PUBLISH
BEGIN:VEVENT
DTSTAMP:20260424T101542Z
UID:45-1693967@livingwaterchurchoffenton.com
DTSTART:20261105T003000Z
DTEND:20261105T020000Z
CLASS:PUBLIC
CREATED:20260423T214403
DESCRIPTION:If you are unable to attend watch live on YouTube\nhttps://www.
 youtube.com/@LivingWaterChurchofFenton\nPlease Like and subscribe
LAST-MODIFIED:20260423T214403
LOCATION:14304 Fenton Rd Fenton MI 48430
SUMMARY:Mid-Week Service
URL;VALUE=URI:https://www.livingwaterchurchoffenton.com/events/mid-week-ser
 vice/2026-11-04
ATTACH;FILENAME=midweek.jpg;FMTTYPE=image/jpeg:https://dq5pwpg1q8ru0.cloudf
 ront.net/2026/02/22/15/33/48/4e8aeeae-4387-4d31-84cd-ef4e474b5d24/midweek.
 jpg
END:VEVENT
END:VCALENDAR
