BEGIN:VCALENDAR
VERSION:2.0
PRODID:icalendar-ruby
CALSCALE:GREGORIAN
METHOD:PUBLISH
BEGIN:VEVENT
DTSTAMP:20260424T232202Z
UID:44-1698706@livingwaterchurchoffenton.com
DTSTART:20261101T160000Z
DTEND:20261101T190000Z
CLASS:PUBLIC
CREATED:20260424T182952
DESCRIPTION:Join us for A time of Worship and hearing the Word of God\nIf y
 ou are unable to attend watch live on YouTube\nhttps://www.youtube.com/@Li
 vingWaterChurchofFenton\nPlease Like and subscribe
LAST-MODIFIED:20260424T182952
LOCATION:14304 Fenton Rd Fenton MI 48430
SUMMARY:Worship Service
URL;VALUE=URI:https://www.livingwaterchurchoffenton.com/events/worship-serv
 ice--44/2026-11-01
ATTACH;FILENAME=Worship.jpg;FMTTYPE=image/jpeg:https://dq5pwpg1q8ru0.cloudf
 ront.net/2025/12/28/23/01/32/3e9a76de-5e48-469c-b69f-94f9f10adab5/Worship.
 jpg
END:VEVENT
END:VCALENDAR
